BEGIN:VCALENDAR
VERSION:2.0
PRODID:-//Doerr Auction and Realty - ECPv6.4.0//NONSGML v1.0//EN
CALSCALE:GREGORIAN
METHOD:PUBLISH
X-WR-CALNAME:Doerr Auction and Realty
X-ORIGINAL-URL:https://doerrauctions.com
X-WR-CALDESC:Events for Doerr Auction and Realty
REFRESH-INTERVAL;VALUE=DURATION:PT1H
X-Robots-Tag:noindex
X-PUBLISHED-TTL:PT1H
BEGIN:VTIMEZONE
TZID:America/Chicago
BEGIN:DAYLIGHT
TZOFFSETFROM:-0600
TZOFFSETTO:-0500
TZNAME:CDT
DTSTART:20210314T080000
END:DAYLIGHT
BEGIN:STANDARD
TZOFFSETFROM:-0500
TZOFFSETTO:-0600
TZNAME:CST
DTSTART:20211107T070000
END:STANDARD
END:VTIMEZONE
BEGIN:VEVENT
DTSTART;TZID=America/Chicago:20210317T100000
DTEND;TZID=America/Chicago:20210317T180000
DTSTAMP:20260423T005352
CREATED:20210308T213426Z
LAST-MODIFIED:20240412T181807Z
UID:2266-1615975200-1616004000@doerrauctions.com
SUMMARY:Online Auction Pick Up @ Doerr Auction Center\, Vergennes\, IL for Spring Online Auction #1
DESCRIPTION:Winning bidders will be notified via email at the close of the online auction Monday night.  Items can be picked up on Wednesday\, March 17\, from 10 AM – 6 PM at Doerr Auction Center\, 345 Porter Ave.\, Vergennes\, IL.  Please bring help to load\, boxes and packing materials.   We will have a hand truck or 2-wheeler available for use\, but auction staff will not help carry or load.
URL:https://doerrauctions.com/event/online-auction-pick-up-doerr-auction-center-vergennes-il-for-spring-online-auction-1/
CATEGORIES:Online auction pick up
END:VEVENT
BEGIN:VEVENT
DTSTART;TZID=America/Chicago:20210315T190000
DTEND;TZID=America/Chicago:20210315T213000
DTSTAMP:20260423T005352
CREATED:20210308T203339Z
LAST-MODIFIED:20240412T181807Z
UID:2263-1615834800-1615843800@doerrauctions.com
SUMMARY:Online Auction ends for Spring 2021 Online Consignment Auction #1
DESCRIPTION:Lots start closing at 7 P.M. (central time) on Monday\, March 15.  Each lot is staggered to close 30 seconds apart. However\, this is a soft-close auction; time will extend on any item that has bidding occurring within 2 minutes of the close.   —-> click here to bid https://doerrauctions.hibid.com/catalog/268339/spring-2021-online-consignment-auction–1/?ipp=10
URL:https://doerrauctions.com/event/online-auction-ends-for-spring-2021-online-consignment-auction-1/
CATEGORIES:Auction Ending
END:VEVENT
BEGIN:VEVENT
DTSTART;TZID=America/Chicago:20210315T190000
DTEND;TZID=America/Chicago:20210315T190000
DTSTAMP:20260423T005352
CREATED:20210308T201017Z
LAST-MODIFIED:20240412T181807Z
UID:2255-1615834800-1615834800@doerrauctions.com
SUMMARY:Online Auction ends for 319 N. Illinois Ave\, Carbondale\, IL
DESCRIPTION:Don’t miss this incredible opportunity to purchase commercial real estate AT YOUR PRICE! \nGreat location! On US Route 51 North in Carbondale\, this commercial building and extra lot feature high visibility\, easy access\, and parking! The building is visible to over 10\,000 cars a day\, with 4\,900 passing directly in front. The building’s open layout concept could accommodate a large variety of businesses. This property will sell to the highest bidder\, with no minimum or reserve price! \nFor more information visit https://doerrauctions.hibid.com/catalog/263407/319-n–illinois-ave–carbondale–il/
URL:https://doerrauctions.com/event/online-auction-ends-for-319-n-illinois-ave-carbondale-il/
CATEGORIES:Auction Ending
END:VEVENT
BEGIN:VEVENT
DTSTART;TZID=America/Chicago:20210315T120000
DTEND;TZID=America/Chicago:20210315T180000
DTSTAMP:20260423T005352
CREATED:20210308T202355Z
LAST-MODIFIED:20240412T181807Z
UID:2260-1615809600-1615831200@doerrauctions.com
SUMMARY:Online Auction Viewing for Spring 2021 Online Consignment Auction #1
DESCRIPTION:Join us on Monday\, March 15\, from 12-6 P.M. at Doerr Auction Center\, 345 Porter Ave\, Vergennes\, IL to personally inspect all of the great items up for bid! \nFor more information visit https://doerrauctions.hibid.com/catalog/268339/spring-2021-online-consignment-auction–1/?ipp=10
URL:https://doerrauctions.com/event/online-auction-viewing-for-spring-2021-online-consignment-auction-1-2/
CATEGORIES:Merchandise viewing
END:VEVENT
BEGIN:VEVENT
DTSTART;TZID=America/Chicago:20210314T140000
DTEND;TZID=America/Chicago:20210314T160000
DTSTAMP:20260423T005352
CREATED:20210308T201833Z
LAST-MODIFIED:20240412T181807Z
UID:2258-1615730400-1615737600@doerrauctions.com
SUMMARY:Online Auction Viewing for Spring 2021 Online Consignment Auction #1
DESCRIPTION:Join us on Sunday\, March 14\, from 2-4 P.M. at Doerr Auction Center\, 345 Porter Ave\, Vergennes\, IL to personally inspect all of the great items up for bid! \nFor more information visit https://doerrauctions.hibid.com/catalog/268339/spring-2021-online-consignment-auction–1/?ipp=10 \n 
URL:https://doerrauctions.com/event/online-auction-viewing-for-spring-2021-online-consignment-auction-1/
CATEGORIES:Merchandise viewing
END:VEVENT
BEGIN:VEVENT
DTSTART;TZID=America/Chicago:20210224T100000
DTEND;TZID=America/Chicago:20210224T180000
DTSTAMP:20260423T005352
CREATED:20210218T193706Z
LAST-MODIFIED:20240412T181807Z
UID:2251-1614160800-1614189600@doerrauctions.com
SUMMARY:Online Auction Pick Up @ White Tail Rd\, Murphysboro
DESCRIPTION:Winning bidders will be notified via email at the close of the online auction Monday night.  Items can be picked up on Wednesday\, February 24\, from 10 AM – 6 PM at 230 White Tail Rd\, Murphysboro\, IL.  Please bring help to load\, boxes and packing materials.  We will not have boxes or packing materials available at this location.  We will have a hand truck or 2-wheeler available for use\, but auction staff will not help carry or load.  Please note that items 300-550 are located in the basement. \n 
URL:https://doerrauctions.com/event/online-auction-pick-up-white-tail-rd-murphysboro/
END:VEVENT
BEGIN:VEVENT
DTSTART;TZID=America/Chicago:20210222T190000
DTEND;TZID=America/Chicago:20210222T220000
DTSTAMP:20260423T005352
CREATED:20210215T235306Z
LAST-MODIFIED:20240412T181808Z
UID:2246-1614020400-1614031200@doerrauctions.com
SUMMARY:Online Auction Ends for Personal Property @ White Tail Road!
DESCRIPTION:Lots start closing at 7 P.M. (central time) on Monday\, February 22.  Each lot is staggered to close 20 seconds apart. However\, this is a soft-close auction; time will extend on any item that has bidding occurring within 2 minutes of the close.
URL:https://doerrauctions.com/event/online-auction-ends-for-personal-property-white-tail-road/
END:VEVENT
BEGIN:VEVENT
DTSTART;TZID=America/Chicago:20210221T140000
DTEND;TZID=America/Chicago:20210221T160000
DTSTAMP:20260423T005352
CREATED:20210215T234041Z
LAST-MODIFIED:20240412T181808Z
UID:2240-1613916000-1613923200@doerrauctions.com
SUMMARY:Online Auction Viewing!
DESCRIPTION:Join us on Sunday\, February 21\, from 2-4 P.M. at 230 White Tail Rd\, Murphysboro\, IL to personally inspect all of the great items up for bid! \n  \n  \nThis online auction features a 4-bedroom home FULL of cool vintage and Mid Century items\, a large selection of furniture\, housewares\, tools\, a 2004 Cadillac DeVille\, plus authentic NASA memorabilia from a former NASA engineer. Mr. Williams was an Engineer who worked for NASA\, Martin Marietta & Boeing. His career spans from the Apollo Program to the Space Shuttles. Items include NASA Jackets\, Apollo/Saturn V Roll of Honor book (Edition limited to 1\,817 copies)\, Mission tokens\, models\, posters\, employee service award gifts & more!
URL:https://doerrauctions.com/event/online-auction-viewing/
END:VEVENT
BEGIN:VEVENT
DTSTART;TZID=America/Chicago:20210214T140000
DTEND;TZID=America/Chicago:20210214T160000
DTSTAMP:20260423T005352
CREATED:20210212T042934Z
LAST-MODIFIED:20240412T181808Z
UID:2229-1613311200-1613318400@doerrauctions.com
SUMMARY:Online Auction Veiwing!
DESCRIPTION:Join us for a viewing at 230 White Tail Road\, Murphysboro on Sunday\, February 14\, from 2-4 P.M.  \n4-Bedroom home FULL of cool vintage and Mid Century items\, 2004 Cadillac DeVille\, 1-owner\, 26\,714 showing on odometer\, white w/gray interior * NASA Memorabilia– Mr. Williams was an Engineer for NASA\, Martin Marietta & Boeing. His career spans from the Apollo Program to the Space Shuttles. Items include NASA Jackets\, Apollo/Saturn V Roll of Honor book (Edition limited to 1\,817 copies)\, Mission tokens\, models\, posters\, employee service gifts & more! Large selection of furniture Antique Mahogany China hutch\, buffet\, table & chairs * Cherry drop-front secretary/bookcase * Emperor Grandfather clock * Living room sets * Bedroom sets * Kitchen table & chairs * GE washer & dryer * Murphysboro Advertising Premiums\, Photos & Memorabilia * Gold\, Silver & Costume jewelry * Handmade Quilts * Vintage Christmas decorations * 1960’s-1980’s Mardi Grads collectibles * 1977 Star Wars glasses * Vintage-modern kitchen wares– Wagner Ware\, Magnalite\, Pyrex\, Corning ware\, Tupperware * WWII & Korea collectibles * Vintage fishing equipment * Power & hand tools & MORE!
URL:https://doerrauctions.com/event/online-auction-veiwing/
END:VEVENT
END:VCALENDAR