BEGIN:VCALENDAR
VERSION:2.0
PRODID:-//Doerr Auction and Realty - ECPv6.4.0//NONSGML v1.0//EN
CALSCALE:GREGORIAN
METHOD:PUBLISH
X-ORIGINAL-URL:https://doerrauctions.com
X-WR-CALDESC:Events for Doerr Auction and Realty
REFRESH-INTERVAL;VALUE=DURATION:PT1H
X-Robots-Tag:noindex
X-PUBLISHED-TTL:PT1H
BEGIN:VTIMEZONE
TZID:America/Chicago
BEGIN:DAYLIGHT
TZOFFSETFROM:-0600
TZOFFSETTO:-0500
TZNAME:CDT
DTSTART:20250309T080000
END:DAYLIGHT
BEGIN:STANDARD
TZOFFSETFROM:-0500
TZOFFSETTO:-0600
TZNAME:CST
DTSTART:20251102T070000
END:STANDARD
END:VTIMEZONE
BEGIN:VEVENT
DTSTART;TZID=America/Chicago:20250620T180000
DTEND;TZID=America/Chicago:20250728T190000
DTSTAMP:20260421T041357
CREATED:20250624T003927Z
LAST-MODIFIED:20250624T003927Z
UID:4165-1750442400-1753729200@doerrauctions.com
SUMMARY:Online Auction is OPEN for Bidding! 3100 Ava Road\, Murphysboro\, IL
DESCRIPTION:This is an online-only auction. Bidding ends on Monday\, July 28\, at 7 P.M. \n\n**Tract 1** – This property features a three-bedroom\, two-bathroom residence\, which includes an attached garage\, a workshop\, and a pole barn\, all situated on a five-acre parcel of land.\n\n**Tract 2** – This tract encompasses a total of 32.45 acres.\n\n\nClick here for more information:\nhttps://doerrauctions.hibid.com/catalog/654657/3100-ava-road–murphysboro–il-62966
URL:https://doerrauctions.com/event/online-auction-is-open-for-bidding-3100-ava-road-murphysboro-il/
CATEGORIES:Auction open for bidding
ATTACH;FMTTYPE=image/jpeg:https://doerrauctions.com/wp-content/uploads/2025/06/IMG_4669-scaled.jpg
END:VEVENT
END:VCALENDAR