BEGIN:VCALENDAR
VERSION:2.0
PRODID:-//Doerr Auction and Realty - ECPv6.4.0//NONSGML v1.0//EN
CALSCALE:GREGORIAN
METHOD:PUBLISH
X-WR-CALNAME:Doerr Auction and Realty
X-ORIGINAL-URL:https://doerrauctions.com
X-WR-CALDESC:Events for Doerr Auction and Realty
REFRESH-INTERVAL;VALUE=DURATION:PT1H
X-Robots-Tag:noindex
X-PUBLISHED-TTL:PT1H
BEGIN:VTIMEZONE
TZID:America/Chicago
BEGIN:DAYLIGHT
TZOFFSETFROM:-0600
TZOFFSETTO:-0500
TZNAME:CDT
DTSTART:20210314T080000
END:DAYLIGHT
BEGIN:STANDARD
TZOFFSETFROM:-0500
TZOFFSETTO:-0600
TZNAME:CST
DTSTART:20211107T070000
END:STANDARD
END:VTIMEZONE
BEGIN:VEVENT
DTSTART;TZID=America/Chicago:20211121T140000
DTEND;TZID=America/Chicago:20211121T160000
DTSTAMP:20260422T063856
CREATED:20211120T033224Z
LAST-MODIFIED:20240412T181744Z
UID:2528-1637503200-1637510400@doerrauctions.com
SUMMARY:Open house for Fall Online Consignment Auction
DESCRIPTION:HUGE Pre-Thanksgiving auction! This incredible auction features an 11×24 Cook Portable Building\, antique-modern furniture\, Waterford Crystal\, Sterling Flatware\, gold\, silver\, and costume jewelry\, leather-bound & signed first edition books\, holiday décor\, China sets\, Compound bows\, Hunting gear\, power and hand tools\, Player Piano\, Riding Mower\, lawn and garden tools\, original artwork\, and collectibles from around-the-world! \n  \nItems are available for inspection on Sunday\, November 21\, from 2-4 P.M. at Doerr Auction Center\, 345 Porter Ave\, Vergennes\, IL \n  \nTo start bidding visit https://doerrauctions.hibid.com/catalog/331878/fall-2021-online-consignment–auction/ \n 
URL:https://doerrauctions.com/event/open-house-for-fall-online-consignment-auction/
CATEGORIES:Merchandise viewing
END:VEVENT
BEGIN:VEVENT
DTSTART;TZID=America/Chicago:20211122T190000
DTEND;TZID=America/Chicago:20211122T223000
DTSTAMP:20260422T063856
CREATED:20211120T033641Z
LAST-MODIFIED:20240412T181744Z
UID:2532-1637607600-1637620200@doerrauctions.com
SUMMARY:Online Auction ENDS for Fall 2021 Consignment Auction
DESCRIPTION:HUGE Pre-Thanksgiving auction! This incredible auction features an 11×24 Cook Portable Building\, antique-modern furniture\, Waterford Crystal\, Sterling Flatware\, gold\, silver\, and costume jewelry\, leather-bound & signed first edition books\, holiday décor\, China sets\, Compound bows\, Hunting gear\, power and hand tools\, Player Piano\, Riding Mower\, lawn and garden tools\, original artwork\, and collectibles from around-the-world! \n  \nThis is an online-only auction. Bidding ends on Monday\, November 22\, starting at 7 P.M. (Central Time). \n  \nTo bid visit  https://doerrauctions.hibid.com/catalog/331878/fall-2021-online-consignment–auction/
URL:https://doerrauctions.com/event/online-auction-ends-for-fall-2021-consignment-auction/
CATEGORIES:Auction Ending
END:VEVENT
END:VCALENDAR