BEGIN:VCALENDAR
VERSION:2.0
PRODID:-//Doerr Auction and Realty - ECPv6.4.0//NONSGML v1.0//EN
CALSCALE:GREGORIAN
METHOD:PUBLISH
X-WR-CALNAME:Doerr Auction and Realty
X-ORIGINAL-URL:https://doerrauctions.com
X-WR-CALDESC:Events for Doerr Auction and Realty
REFRESH-INTERVAL;VALUE=DURATION:PT1H
X-Robots-Tag:noindex
X-PUBLISHED-TTL:PT1H
BEGIN:VTIMEZONE
TZID:America/Chicago
BEGIN:DAYLIGHT
TZOFFSETFROM:-0600
TZOFFSETTO:-0500
TZNAME:CDT
DTSTART:20220313T080000
END:DAYLIGHT
BEGIN:STANDARD
TZOFFSETFROM:-0500
TZOFFSETTO:-0600
TZNAME:CST
DTSTART:20221106T070000
END:STANDARD
END:VTIMEZONE
BEGIN:VEVENT
DTSTART;TZID=America/Chicago:20220225T160000
DTEND;TZID=America/Chicago:20220225T180000
DTSTAMP:20260422T015631
CREATED:20220223T224426Z
LAST-MODIFIED:20240412T181744Z
UID:2557-1645804800-1645812000@doerrauctions.com
SUMMARY:Open House For 2022 Online Consignment Auction #1
DESCRIPTION:This multi-estate auction has an incredible selection! Highlights include- 2005 Lincoln Town Car\, 1-Owner\, 12\,516 miles * 2005 Ford Five Hundred Limited\, Estate Car\, 131\,860 miles * 2009 Harley-Davidson FLSTC Heritage * 2005 Harley-Davidson FLSTN Deluxe * 1998 Harley-Davidson XLH 1200 Custom Sportster * 2-$50 Gold American Eagles * HUGE selection of furniture– Glass Front Display Cabinets * Dining Table & Chair sets * China Cabinets & Hutches * Hoosier & Antique Kitchen Cabinets *Dressers & Chests * 3 Bedroom sets * Buffets & Servers * Sofa\, end & Side Tables* Loveseats\, Recliners\, Arm Chairs * Desks * Rattan Loveseat\, chairs\, tables * Shelves/Bookcases * Cedar Chests * Treadle Sewing Machines * Refrigerators * Washers & Dryers* Gas & Electric Ranges * Antique Fans * Original Paintings * Waterford Crystal * Signed First Editions & Leather-Bound Books * Vintage Cameras * Sterling Flatware * Pocket & Wrist watches * LeCoultre Atomos Clock * Large clock collection * Stereo Components: Marantz\, Pioneer\, JVC\, Bose\, More * Vintage Electronics—tube radios\, testers\, reel-to-reels * Victrola Credenza X * Limoges & other fine China * Indian Motorcycle Sign * Hit & Miss Engine * Cast Iron Cookware *Vintage Pyrex * China Sets\, Stemware & EAPG Glass * Records * Patio Furniture * Motorcycle & ATV Lifts/Jacks * Welders * Concrete Mixer * 14’ Lowe Line Jon Boat * Cherry Picker * Vintage Bikes: Schwinn\, Western Flyer\, Triumph * Wizard Riding Mower * Yard & Garden Tools * Camping Equipment * Fishing equipment * Golf Clubs * Tools & Hardware * Tanning bed & MUCH MORE! \n  \nItems are available for inspection on Friday\, February 25\, from 4-6 P.M. at Doerr Auction Center\, 345 Porter Ave\, Vergennes\, IL
URL:https://doerrauctions.com/event/open-house-for-2022-online-consignment-auction-1/
LOCATION:Doerr Auction\, 345 Porter Avenue\, Vergennes\, 62994\, United States
CATEGORIES:Merchandise viewing,Open House
END:VEVENT
BEGIN:VEVENT
DTSTART;TZID=America/Chicago:20220227T180000
DTEND;TZID=America/Chicago:20220227T180000
DTSTAMP:20260422T015631
CREATED:20220223T224917Z
LAST-MODIFIED:20240412T181744Z
UID:2559-1645984800-1645984800@doerrauctions.com
SUMMARY:Online Auction ENDS for 2022 Online Consignment Auction #1
DESCRIPTION:This multi-estate auction has an incredible selection! Highlights include- 2005 Lincoln Town Car\, 1-Owner\, 12\,516 miles * 2005 Ford Five Hundred Limited\, Estate Car\, 131\,860 miles * 2009 Harley-Davidson FLSTC Heritage * 2005 Harley-Davidson FLSTN Deluxe * 1998 Harley-Davidson XLH 1200 Custom Sportster * 2-$50 Gold American Eagles * HUGE selection of furniture– Glass Front Display Cabinets * Dining Table & Chair sets * China Cabinets & Hutches * Hoosier & Antique Kitchen Cabinets *Dressers & Chests * 3 Bedroom sets * Buffets & Servers * Sofa\, end & Side Tables* Loveseats\, Recliners\, Arm Chairs * Desks * Rattan Loveseat\, chairs\, tables * Shelves/Bookcases * Cedar Chests * Treadle Sewing Machines * Refrigerators * Washers & Dryers* Gas & Electric Ranges * Antique Fans * Original Paintings * Waterford Crystal * Signed First Editions & Leather-Bound Books * Vintage Cameras * Sterling Flatware * Pocket & Wrist watches * LeCoultre Atomos Clock * Large clock collection * Stereo Components: Marantz\, Pioneer\, JVC\, Bose\, More * Vintage Electronics—tube radios\, testers\, reel-to-reels * Victrola Credenza X * Limoges & other fine China * Indian Motorcycle Sign * Hit & Miss Engine * Cast Iron Cookware *Vintage Pyrex * China Sets\, Stemware & EAPG Glass * Records * Patio Furniture * Motorcycle & ATV Lifts/Jacks * Welders * Concrete Mixer * 14’ Lowe Line Jon Boat * Cherry Picker * Vintage Bikes: Schwinn\, Western Flyer\, Triumph * Wizard Riding Mower * Yard & Garden Tools * Camping Equipment * Fishing equipment * Golf Clubs * Tools & Hardware * Tanning bed & MUCH MORE! \n  \nThis is an online-only auction. Bidding ends on Sunday\, February 27th\, starting at 6 P.M. (Central Time). \n  \nTo bid visit: Doerr Auction and Realty (hibid.com)
URL:https://doerrauctions.com/event/online-auction-ends-for-2022-online-consignment-auction-1/
CATEGORIES:Auction Ending
END:VEVENT
END:VCALENDAR