BEGIN:VCALENDAR
VERSION:2.0
PRODID:-//Doerr Auction and Realty - ECPv6.4.0//NONSGML v1.0//EN
CALSCALE:GREGORIAN
METHOD:PUBLISH
X-ORIGINAL-URL:https://doerrauctions.com
X-WR-CALDESC:Events for Doerr Auction and Realty
REFRESH-INTERVAL;VALUE=DURATION:PT1H
X-Robots-Tag:noindex
X-PUBLISHED-TTL:PT1H
BEGIN:VTIMEZONE
TZID:America/Chicago
BEGIN:DAYLIGHT
TZOFFSETFROM:-0600
TZOFFSETTO:-0500
TZNAME:CDT
DTSTART:20210314T080000
END:DAYLIGHT
BEGIN:STANDARD
TZOFFSETFROM:-0500
TZOFFSETTO:-0600
TZNAME:CST
DTSTART:20211107T070000
END:STANDARD
END:VTIMEZONE
BEGIN:VEVENT
DTSTART;TZID=America/Chicago:20210413T230000
DTEND;TZID=America/Chicago:20210419T190000
DTSTAMP:20260422T192423
CREATED:20210416T020510Z
LAST-MODIFIED:20240412T181807Z
UID:2342-1618354800-1618858800@doerrauctions.com
SUMMARY:Spring Online Consignment Auction #2 is open for Bidding!
DESCRIPTION:This online-only auction features an incredible selection! 600 lots including antique and primitive pieces dating from the late 1800’s\, some cool MCM items and quality modern furnishings\, Clark 4000# Forklift\, LP\, Troy-Bilt XP 50” Zero-turn Mower\, Hobart MIG Welder\, Pearce Brothers Pecan Cracker PB-50\, Gorham Versailles-111 pieces of sterling flatware\, Antique Windmill weight\, Vintage SEGA Star Wars arcade game\, Bowflex\, dozens of signed prints\, liquor decanters\, Primitives\, Griesediek Beer crate\, Tobacco tins\, Coca-Cola cooler\, Vintage Weatherhead display\, book sets\, push mower\, tiller\, yard carts\, lawn & garden tools\, 2 wagons of hand tools & hardware\, AND MUCH MORE!
URL:https://doerrauctions.com/event/spring-online-consignment-auction-2-is-open-for-bidding/
END:VEVENT
END:VCALENDAR