BEGIN:VCALENDAR
VERSION:2.0
PRODID:-//Doerr Auction and Realty - ECPv6.4.0//NONSGML v1.0//EN
CALSCALE:GREGORIAN
METHOD:PUBLISH
X-ORIGINAL-URL:https://doerrauctions.com
X-WR-CALDESC:Events for Doerr Auction and Realty
REFRESH-INTERVAL;VALUE=DURATION:PT1H
X-Robots-Tag:noindex
X-PUBLISHED-TTL:PT1H
BEGIN:VTIMEZONE
TZID:America/Chicago
BEGIN:DAYLIGHT
TZOFFSETFROM:-0600
TZOFFSETTO:-0500
TZNAME:CDT
DTSTART:20210314T080000
END:DAYLIGHT
BEGIN:STANDARD
TZOFFSETFROM:-0500
TZOFFSETTO:-0600
TZNAME:CST
DTSTART:20211107T070000
END:STANDARD
END:VTIMEZONE
BEGIN:VEVENT
DTSTART;TZID=America/Chicago:20210920T190000
DTEND;TZID=America/Chicago:20210920T210000
DTSTAMP:20260422T112431
CREATED:20210919T035235Z
LAST-MODIFIED:20240412T181756Z
UID:2445-1632164400-1632171600@doerrauctions.com
SUMMARY:Online auction ENDS for Personal Property @ 201 S. 5th St\, Elkville\, IL- Donna Piper
DESCRIPTION:Lots start closing at 7 P.M. (central time) on Monday\, September 20.  Each lot is staggered to close 30 seconds apart. However\, this is a soft-close auction; time will extend on any item that has bidding occurring within 2 minutes of the close.
URL:https://doerrauctions.com/event/online-auction-ends-for-personal-property-201-s-5th-st-elkville-il-donna-piper/
CATEGORIES:Auction Ending
END:VEVENT
END:VCALENDAR