BEGIN:VCALENDAR
VERSION:2.0
PRODID:-//Doerr Auction and Realty - ECPv6.4.0//NONSGML v1.0//EN
CALSCALE:GREGORIAN
METHOD:PUBLISH
X-ORIGINAL-URL:https://doerrauctions.com
X-WR-CALDESC:Events for Doerr Auction and Realty
REFRESH-INTERVAL;VALUE=DURATION:PT1H
X-Robots-Tag:noindex
X-PUBLISHED-TTL:PT1H
BEGIN:VTIMEZONE
TZID:America/Chicago
BEGIN:DAYLIGHT
TZOFFSETFROM:-0600
TZOFFSETTO:-0500
TZNAME:CDT
DTSTART:20220313T080000
END:DAYLIGHT
BEGIN:STANDARD
TZOFFSETFROM:-0500
TZOFFSETTO:-0600
TZNAME:CST
DTSTART:20221106T070000
END:STANDARD
END:VTIMEZONE
BEGIN:VEVENT
DTSTART;TZID=America/Chicago:20221212T160000
DTEND;TZID=America/Chicago:20221212T190000
DTSTAMP:20260421T113747
CREATED:20221211T174209Z
LAST-MODIFIED:20240412T181735Z
UID:3603-1670860800-1670871600@doerrauctions.com
SUMMARY:Open House for Online Auction #4!
DESCRIPTION:Items are available for viewing at Doerr Auction Center\, 345 Porter Ave\, Vergennes\, IL\, on Monday\, December 12\, 4-7 PM
URL:https://doerrauctions.com/event/open-house-for-online-auction-4/
LOCATION:Doerr Auction\, 345 Porter Avenue\, Vergennes\, 62994\, United States
CATEGORIES:Merchandise viewing
ATTACH;FMTTYPE=image/jpeg:https://doerrauctions.com/wp-content/uploads/2022/12/Slide3.jpg
END:VEVENT
END:VCALENDAR