BEGIN:VCALENDAR
VERSION:2.0
PRODID:-//Doerr Auction and Realty - ECPv6.4.0//NONSGML v1.0//EN
CALSCALE:GREGORIAN
METHOD:PUBLISH
X-WR-CALNAME:Doerr Auction and Realty
X-ORIGINAL-URL:https://doerrauctions.com
X-WR-CALDESC:Events for Doerr Auction and Realty
REFRESH-INTERVAL;VALUE=DURATION:PT1H
X-Robots-Tag:noindex
X-PUBLISHED-TTL:PT1H
BEGIN:VTIMEZONE
TZID:America/Chicago
BEGIN:DAYLIGHT
TZOFFSETFROM:-0600
TZOFFSETTO:-0500
TZNAME:CDT
DTSTART:20230312T080000
END:DAYLIGHT
BEGIN:STANDARD
TZOFFSETFROM:-0500
TZOFFSETTO:-0600
TZNAME:CST
DTSTART:20231105T070000
END:STANDARD
END:VTIMEZONE
BEGIN:VEVENT
DTSTART;TZID=America/Chicago:20230514T220000
DTEND;TZID=America/Chicago:20230522T220000
DTSTAMP:20260421T041123
CREATED:20230516T155055Z
LAST-MODIFIED:20240412T181734Z
UID:3675-1684101600-1684792800@doerrauctions.com
SUMMARY:2023 Online Consignment Auction #1 is open for bidding!
DESCRIPTION:
URL:https://doerrauctions.com/event/2023-online-consignment-auction-1-is-open-for-bidding/
LOCATION:Doerr Auction\, 345 Porter Avenue\, Vergennes\, 62994\, United States
CATEGORIES:Auction open for bidding
END:VEVENT
BEGIN:VEVENT
DTSTART;TZID=America/Chicago:20230522T180000
DTEND;TZID=America/Chicago:20230522T233000
DTSTAMP:20260421T041123
CREATED:20230516T161141Z
LAST-MODIFIED:20240412T181734Z
UID:3685-1684778400-1684798200@doerrauctions.com
SUMMARY:Bidding ENDS for 2023 Online Consignment Auction #1
DESCRIPTION:Don’t miss out on these great items!  Lots start closing at 6 P.M. CST.  Get your bids in early. With over 1700 lots closing at 10 seconds apart\, it will be an exciting\, fast-paced event! 
URL:https://doerrauctions.com/event/bidding-ends-for-2023-online-consignment-auction-1/
LOCATION:Doerr Auction\, 345 Porter Avenue\, Vergennes\, 62994\, United States
CATEGORIES:Auction Ending
END:VEVENT
END:VCALENDAR