BEGIN:VCALENDAR
VERSION:2.0
PRODID:-//Doerr Auction and Realty - ECPv6.4.0//NONSGML v1.0//EN
CALSCALE:GREGORIAN
METHOD:PUBLISH
X-ORIGINAL-URL:https://doerrauctions.com
X-WR-CALDESC:Events for Doerr Auction and Realty
REFRESH-INTERVAL;VALUE=DURATION:PT1H
X-Robots-Tag:noindex
X-PUBLISHED-TTL:PT1H
BEGIN:VTIMEZONE
TZID:America/Chicago
BEGIN:DAYLIGHT
TZOFFSETFROM:-0600
TZOFFSETTO:-0500
TZNAME:CDT
DTSTART:20230312T080000
END:DAYLIGHT
BEGIN:STANDARD
TZOFFSETFROM:-0500
TZOFFSETTO:-0600
TZNAME:CST
DTSTART:20231105T070000
END:STANDARD
END:VTIMEZONE
BEGIN:VEVENT
DTSTART;TZID=America/Chicago:20231005T100000
DTEND;TZID=America/Chicago:20231005T180000
DTSTAMP:20260421T054215
CREATED:20230925T212438Z
LAST-MODIFIED:20240412T181724Z
UID:3832-1696500000-1696528800@doerrauctions.com
SUMMARY:Item Pick Up for 2023 Consignment #2 & SIU Police Dept Unclaimed Property
DESCRIPTION:Items can be picked up at Doerr Auction Center\, 345 Porter Ave\, Vergennes\, IL \n10 AM – 6 PM Thursday\, October 5 \n10 AM – 6 PM Friday\, October 6 \nShipping is available; please read the shipping terms. \nPlease bring help to load!  Purchasers are responsible for loading; auction staff will not be available. \nDon’t forget boxes and packing supplies!
URL:https://doerrauctions.com/event/item-pick-up-for-2023-consignment-2-siu-police-dept-unclaimed-property/
LOCATION:Doerr Auction\, 345 Porter Avenue\, Vergennes\, 62994\, United States
CATEGORIES:Online auction pick up
ATTACH;FMTTYPE=image/jpeg:https://doerrauctions.com/wp-content/uploads/2023/09/IMG_9920-scaled.jpg
END:VEVENT
END:VCALENDAR