BEGIN:VCALENDAR
VERSION:2.0
PRODID:-//Doerr Auction and Realty - ECPv6.4.0//NONSGML v1.0//EN
CALSCALE:GREGORIAN
METHOD:PUBLISH
X-ORIGINAL-URL:https://doerrauctions.com
X-WR-CALDESC:Events for Doerr Auction and Realty
REFRESH-INTERVAL;VALUE=DURATION:PT1H
X-Robots-Tag:noindex
X-PUBLISHED-TTL:PT1H
BEGIN:VTIMEZONE
TZID:America/Chicago
BEGIN:DAYLIGHT
TZOFFSETFROM:-0600
TZOFFSETTO:-0500
TZNAME:CDT
DTSTART:20240310T080000
END:DAYLIGHT
BEGIN:STANDARD
TZOFFSETFROM:-0500
TZOFFSETTO:-0600
TZNAME:CST
DTSTART:20241103T070000
END:STANDARD
END:VTIMEZONE
BEGIN:VEVENT
DTSTART;TZID=America/Chicago:20240812T130000
DTEND;TZID=America/Chicago:20240819T180000
DTSTAMP:20260421T164704
CREATED:20240730T020254Z
LAST-MODIFIED:20240812T084421Z
UID:4010-1723467600-1724090400@doerrauctions.com
SUMMARY:2024 Online Consignment Auction #2 Opens for Bidding
DESCRIPTION:We’ve spent the past couple of months gathering THOUSANDS of great items.  Bidding opens on Monday\, August 12! \n 
URL:https://doerrauctions.com/event/2024-online-consignment-auction-2-opens-for-bidding/
LOCATION:Doerr Auction\, 345 Porter Avenue\, Vergennes\, 62994\, United States
CATEGORIES:Auction open for bidding
ATTACH;FMTTYPE=image/jpeg:https://doerrauctions.com/wp-content/uploads/2024/07/IMG_8201-scaled.jpg
END:VEVENT
END:VCALENDAR