BEGIN:VCALENDAR
VERSION:2.0
PRODID:-//Doerr Auction and Realty - ECPv6.4.0//NONSGML v1.0//EN
CALSCALE:GREGORIAN
METHOD:PUBLISH
X-WR-CALNAME:Doerr Auction and Realty
X-ORIGINAL-URL:https://doerrauctions.com
X-WR-CALDESC:Events for Doerr Auction and Realty
REFRESH-INTERVAL;VALUE=DURATION:PT1H
X-Robots-Tag:noindex
X-PUBLISHED-TTL:PT1H
BEGIN:VTIMEZONE
TZID:America/Chicago
BEGIN:DAYLIGHT
TZOFFSETFROM:-0600
TZOFFSETTO:-0500
TZNAME:CDT
DTSTART:20250309T080000
END:DAYLIGHT
BEGIN:STANDARD
TZOFFSETFROM:-0500
TZOFFSETTO:-0600
TZNAME:CST
DTSTART:20251102T070000
END:STANDARD
END:VTIMEZONE
BEGIN:VEVENT
DTSTART;TZID=America/Chicago:20250818T100000
DTEND;TZID=America/Chicago:20250922T190000
DTSTAMP:20260421T210632
CREATED:20250818T065043Z
LAST-MODIFIED:20250818T065043Z
UID:4214-1755511200-1758567600@doerrauctions.com
SUMMARY:Online Auction is OPEN for Bidding!  505 & 505 1/2 W. Main\, Carbondale\, IL
DESCRIPTION: 2 Houses Selling together to the Highest Bidder!\n \n505 1/2 W Main\nThis is an online-only auction.  Bidding ends on Monday\, September 22\, at 7 p.m. \nImagine the possibilities…This impressive\, grand brick home stands as a testament to a bygone era\, waiting for restoration or redevelopment into something new and vibrant. Nestled within this property\, you’ll find a quaint two-bedroom\, one-bath bungalow\, which has been generating a steady income of $750 per month. Its charming features could easily attract new tenants or make it a perfect starter home. Set on an expansive 15\,930 square feet—approximately one-third of an acre—this prime location on W Main (IL RT 13 West) boasts an impressive average daily traffic count of 14\,000 vehicles. The visibility and accessibility of this lot present an enticing opportunity for investors and builders alike. \nClick here for more information: \nhttps://doerrauctions.hibid.com/catalog/669869/505-and-505-1-2-w-main-carbondale–il
URL:https://doerrauctions.com/event/online-auction-is-open-for-bidding-505-505-1-2-w-main-carbondale-il/
CATEGORIES:Auction open for bidding
ATTACH;FMTTYPE=image/jpeg:https://doerrauctions.com/wp-content/uploads/2025/08/IMG_5623-scaled.jpg
END:VEVENT
BEGIN:VEVENT
DTSTART;TZID=America/Chicago:20250818T100000
DTEND;TZID=America/Chicago:20250929T190000
DTSTAMP:20260421T210632
CREATED:20250910T040624Z
LAST-MODIFIED:20250910T040636Z
UID:4264-1755511200-1759172400@doerrauctions.com
SUMMARY:Online Auction is OPEN for Bidding! E. Campus Drive\, Carbondale\, IL
DESCRIPTION:This is an online-only auction.  Bidding ends on Monday\, September 29\, at 7 p.m.   \nDon’t miss this incredible opportunity to own 6.77 acres of prime vacant land\, selling to the highest bidder! Located at the end of East Campus Drive and just moments away from the SIU Campus\, this property boasts a unique advantage with its eastern border adjoining the serene Green Earth’s Brush Hill Nature Preserve. Street has been platted to the west edge of the subject property but has not been developed. City water extends into the property from the west\, city sewer ends at Glenbeth Drive. \nClick here for more information: \nhttps://doerrauctions.hibid.com/catalog/670014/e–campus-drive–carbondale–il
URL:https://doerrauctions.com/event/online-auction-is-open-for-bidding-e-campus-drive-carbondale-il/
CATEGORIES:Auction open for bidding
ATTACH;FMTTYPE=image/jpeg:https://doerrauctions.com/wp-content/uploads/2025/08/IMG_5714-scaled.jpg
END:VEVENT
BEGIN:VEVENT
DTSTART;TZID=America/Chicago:20250818T100000
DTEND;TZID=America/Chicago:20250929T190000
DTSTAMP:20260421T210632
CREATED:20250910T041155Z
LAST-MODIFIED:20250910T041155Z
UID:4266-1755511200-1759172400@doerrauctions.com
SUMMARY:Online Auction is OPEN for Bidding! 323 W. Walnut\, Carbondale\, IL
DESCRIPTION:This is an online-only auction.  Bidding ends on Monday\, September 29\, at 7 p.m. \nThis exceptional Dutch Colonial residence is located on a prominent corner lot in the heart of Carbondale\, just a few blocks from Southern Illinois University (SIU). The expansive living and dining areas are well-suited for large family gatherings. The thoughtfully designed kitchen features two islands with seating\, two sinks\, two dishwashers\, and two refrigerators to accommodate all your culinary needs. The main level comprises two comfortable bedrooms\, a bathroom\, and a laundry room. The upper level has six additional spacious bedrooms and a full bathroom. The home also has a full basement\, an enclosed storage area\, and a large paved parking area\, easily accessible from Beverage Street\, which is available for residents and their guests. \nClick here for more information: \nhttps://doerrauctions.hibid.com/catalog/669993/323-w–walnut–carbondale–il \n 
URL:https://doerrauctions.com/event/online-auction-is-open-for-bidding-323-w-walnut-carbondale-il/
CATEGORIES:Auction open for bidding
ATTACH;FMTTYPE=image/jpeg:https://doerrauctions.com/wp-content/uploads/2025/08/IMG_5640.1-scaled.jpg
END:VEVENT
BEGIN:VEVENT
DTSTART;TZID=America/Chicago:20250821T080000
DTEND;TZID=America/Chicago:20250922T190000
DTSTAMP:20260421T210632
CREATED:20250910T040031Z
LAST-MODIFIED:20250910T040031Z
UID:4262-1755763200-1758567600@doerrauctions.com
SUMMARY:Online Auction is OPEN for Bidding! 2347 Business Highway 13\, Murphysboro\, IL
DESCRIPTION:This is an online-only auction.  Bidding ends on Monday\, September 22\, at 7 p.m. \nThe perfect blend of classic charm and modern comfort in this inviting two-bedroom home. Nestled on 1.8 picturesque acres\, it includes a spacious two-car garage\, workshop\, and two storage buildings. This is a unique opportunity to own a property that offers both functionality and character. Don’t miss your chance to make this dream home yours! \nClick here for more information: \nhttps://doerrauctions.hibid.com/catalog/670908/2347-business-highway-13–murphysboro–il
URL:https://doerrauctions.com/event/online-auction-is-open-for-bidding-2347-business-highway-13-murphysboro-il/
CATEGORIES:Auction open for bidding
ATTACH;FMTTYPE=image/jpeg:https://doerrauctions.com/wp-content/uploads/2025/08/Front-scaled.jpg
END:VEVENT
BEGIN:VEVENT
DTSTART;TZID=America/Chicago:20250912T170000
DTEND;TZID=America/Chicago:20250912T190000
DTSTAMP:20260421T210632
CREATED:20250910T041750Z
LAST-MODIFIED:20250910T041750Z
UID:4268-1757696400-1757703600@doerrauctions.com
SUMMARY:Open House for 2347 Business Highway 13\, Murphysboro\, IL
DESCRIPTION:Join us for an open house on Friday\, September 12\, from 5 to 7 p.m. \nClick here for more information: \nhttps://doerrauctions.hibid.com/catalog/670908/2347-business-highway-13–murphysboro–il \n 
URL:https://doerrauctions.com/event/open-house-for-2347-business-highway-13-murphysboro-il/
CATEGORIES:Open House
ATTACH;FMTTYPE=image/jpeg:https://doerrauctions.com/wp-content/uploads/2025/08/Front-scaled.jpg
END:VEVENT
BEGIN:VEVENT
DTSTART;TZID=America/Chicago:20250915T170000
DTEND;TZID=America/Chicago:20250915T190000
DTSTAMP:20260421T210632
CREATED:20250910T042229Z
LAST-MODIFIED:20250910T042229Z
UID:4270-1757955600-1757962800@doerrauctions.com
SUMMARY:Open House for 505 & 505 1/2 W. Main\, Carbondale\, IL
DESCRIPTION:505 1/2 W Main\n				\n			\n				\n			\n				\n				505 1/2 W Main\n				\n			\n				\n			\n				\n				505 1/2 W Main\n				\n			\n				\n			\n				\n				505 1/2 W Main\n				\n		\n\nJoin us for an open house on Monday\, September 15\, from 5 to 7 p.m. \nClick here for more information: \nhttps://doerrauctions.hibid.com/catalog/669869/505-and-505-1-2-w-main–carbondale–il \n 
URL:https://doerrauctions.com/event/open-house-for-505-505-1-2-w-main-carbondale-il/
CATEGORIES:Open House
ATTACH;FMTTYPE=image/jpeg:https://doerrauctions.com/wp-content/uploads/2025/08/IMG_5623-scaled.jpg
END:VEVENT
BEGIN:VEVENT
DTSTART;TZID=America/Chicago:20250919T170000
DTEND;TZID=America/Chicago:20250919T190000
DTSTAMP:20260421T210632
CREATED:20250910T042707Z
LAST-MODIFIED:20250910T042707Z
UID:4272-1758301200-1758308400@doerrauctions.com
SUMMARY:Open House for 323 W. Walnut\, Carbondale\, IL
DESCRIPTION:Join us for an open house on Friday\, September 19\, from 5 to 7 p.m. \nClick here for more information: \nhttps://doerrauctions.hibid.com/catalog/669993/323-w–walnut–carbondale–il
URL:https://doerrauctions.com/event/open-house-for-323-w-walnut-carbondale-il/
CATEGORIES:Open House
ATTACH;FMTTYPE=image/jpeg:https://doerrauctions.com/wp-content/uploads/2025/08/IMG_5640.1-scaled.jpg
END:VEVENT
END:VCALENDAR