BEGIN:VCALENDAR
VERSION:2.0
PRODID:-//Doerr Auction and Realty - ECPv6.4.0//NONSGML v1.0//EN
CALSCALE:GREGORIAN
METHOD:PUBLISH
X-ORIGINAL-URL:https://doerrauctions.com
X-WR-CALDESC:Events for Doerr Auction and Realty
REFRESH-INTERVAL;VALUE=DURATION:PT1H
X-Robots-Tag:noindex
X-PUBLISHED-TTL:PT1H
BEGIN:VTIMEZONE
TZID:America/Chicago
BEGIN:DAYLIGHT
TZOFFSETFROM:-0600
TZOFFSETTO:-0500
TZNAME:CDT
DTSTART:20250309T080000
END:DAYLIGHT
BEGIN:STANDARD
TZOFFSETFROM:-0500
TZOFFSETTO:-0600
TZNAME:CST
DTSTART:20251102T070000
END:STANDARD
BEGIN:DAYLIGHT
TZOFFSETFROM:-0600
TZOFFSETTO:-0500
TZNAME:CDT
DTSTART:20260308T080000
END:DAYLIGHT
BEGIN:STANDARD
TZOFFSETFROM:-0500
TZOFFSETTO:-0600
TZNAME:CST
DTSTART:20261101T070000
END:STANDARD
END:VTIMEZONE
BEGIN:VEVENT
DTSTART;TZID=America/Chicago:20251218T120000
DTEND;TZID=America/Chicago:20260126T190000
DTSTAMP:20260421T191159
CREATED:20251218T214056Z
LAST-MODIFIED:20251218T214830Z
UID:4346-1766059200-1769454000@doerrauctions.com
SUMMARY:Online Auction is OPEN for Bidding!  532 N. Washington\, DuQuoin\, IL
DESCRIPTION:  \nThis delightful bungalow features more than 1\,300 square feet of main-level living space and a spacious basement. Step inside to find sun-drenched rooms\, original woodwork\, and intricate crown moldings that add timeless elegance. Hardwood floors\, currently hidden beneath the carpet\, offer the opportunity to showcase even more character. The large living room seamlessly flows into a formal dining area\, perfect for entertaining or family gatherings. The inviting eat-in kitchen features generous cabinet and counter space\, and provides a cozy setting for casual meals. Two spacious bedrooms and a centrally located bathroom provide comfort and convenience. Downstairs\, the basement offers a half-bath and large windows that welcome abundant natural light\, making it ideal for a variety of uses. A detached garage provides ample parking and extra storage for your needs. \n  \nLearn more 
URL:https://doerrauctions.com/event/online-auction-is-open-for-bidding-532-n-washington-duquoin-il/
CATEGORIES:Auction open for bidding
ATTACH;FMTTYPE=image/jpeg:https://doerrauctions.com/wp-content/uploads/2025/12/IMG_7230-scaled.jpg
END:VEVENT
BEGIN:VEVENT
DTSTART;TZID=America/Chicago:20251224T200000
DTEND;TZID=America/Chicago:20260202T200000
DTSTAMP:20260421T191159
CREATED:20251225T033930Z
LAST-MODIFIED:20251225T034128Z
UID:4366-1766606400-1770062400@doerrauctions.com
SUMMARY:Online Auction is OPEN for Bidding! 3536 W Grange Hall Rd\, Murphysboro\, IL
DESCRIPTION:Selling to the highest bidder. This charming three-bedroom\, one-bath home is located on a picturesque four-and-a-half-acre lot in the peaceful countryside of Murphysboro. The living room features large windows that fill the space with natural light and offer beautiful views of the surroundings. The home has an eat-in kitchen with ample cabinet space and a like-new gas range. The bathroom includes a walk-in shower and a convenient linen closet. All bedrooms are equipped with generous closets. The full unfinished basement has a laundry hook-up\, an electric range\, a shower\, and roughed-in plumbing for a sink. The four-and-a-half-acre property boasts lovely mature trees and perennial flower beds. An attached carport also serves as a covered patio\, providing a great spot to enjoy sunset views over the gently rolling pasture. Additionally\, the property features a 48 x 30 pole barn with livestock stalls and a small storage shed. Located just 5.7 miles from Kinkaid Lake\, this home would make a wonderful family home or weekend getaway.\n\n\n\n\nLearn more\n\n			\n				\n			\n			\n				\n			\n			\n				\n			\n			\n				\n			\n			\n				\n			\n			\n				\n			\n			\n				\n			\n			\n				\n			\n		\n\n 
URL:https://doerrauctions.com/event/online-auction-is-open-for-bidding-3536-w-grange-hall-rd-murphysboro-il/
CATEGORIES:Auction open for bidding
ATTACH;FMTTYPE=image/jpeg:https://doerrauctions.com/wp-content/uploads/2025/12/PXL_20250618_175110526-scaled.jpg
END:VEVENT
END:VCALENDAR